Workbook

Sheet Report Instructions
B1: Version: September 2026
B2: Post-Completion Report and Expenditure Report | N2: LEGEND
B3: Welcome to the SLRIP Project Post-Completion Report and Expenditure Report template. Each blue section will have been filled by your Project Officer from your project application or RPM. Each orange section must be filled by you before submitting the completed Report to the Department. Please read all instructions carefully. If you have any questions, contact your Department Project Officer. | N3: BLUE CELLS are filled in by the Department from your original application or RPM
N5: ORANGE CELLS are filled by you, the Funding Recipient
N6: GREY CELLS are formula driven and locked
B9: Instructions - Post-Completion Report and Expenditure Report
B10: 1) | C10: Project Outcomes sheet:
B11: A) | C11: Your Project Officer will have filled in all blue cells in the Project Details table. Fill in the Construction Start and End Dates (orange cells)
B13: B) | C13: In the Project Outcomes table, your Project Officer will have filled in the Pre-Construction and Estimated Post Construction columns from your application under each stream that applies to your project
C15: Fill in the Actual Post Construction column (orange cells) with the actual results of construction. Please provide additional comments if required.
B17: C) | C17: In the Project Benefits table, your Project Officer will have provided the benefits the project was going to achieve from your application (blue cell).
C18: Fill in the orange cells on whether these benefits were achieved or not, and explain how or why.
B20: D) | C20: Fill in the Other Outcomes table (orange cells) with the required information.
B22: 2) | C22: Expenditure Report sheet:
B23: A) | C23: Your Project Officer will have filled in the Cost at Application ($) column in the Project Costs table (all blue cells) with the information you supplied in your application.
B26: B) | C26: Fill in the Cost ($) column (orange cells) with eligible project expenses only. Please round up all figures to the nearest dollar.
C27: Please refer to the Funding Guidelines your project is administered under (see Table A) for guidance on what are eligible costs
B29: C) | C29: In the Project Funding table, your Project Officer will have filled in the Approved Cost Row (all blue cells).
C30: If required, fill in the values in the Difference (put negatives for savings) row for State, Council or Other (all orange cells). All other values are formula driven, so do not edit.
B33: D) | C33: Ensure the Check table is highlighted GREEN in each cell. If it does not, please reach out to your Project Officer
B35: 3) | C35: Declarations:
B36: A) | C36: Your Project Officer will have filled in the date the Funding Agreement/Offer was signed (blue cell). All project costs must be incurred after this date.
B39: B) | C39: Have this document signed by an authorised finance executive (e.g. Finance Officer) in your organisation, and sign and date (all orange cells) in the Financial Declaration table To sign, the authoriser must insert an image of their signature into the cell.
B42: C) | C42: Have this document signed by an authorised executive in your organisation (e.g. Project Manager), and sign and date (all orange cells) in the Project Declaration table To sign, the authoriser must insert an image of their signature into the cell.
B45: 4) | C45: Email your completed and signed Post-Completion Report to the Projects team | K45: SLRIP-Projects@infrastructure.gov.au
C46: Once accepted by the Department, the milestone will be paid. Your Project will then be closed, and no further payments can be made.

Sheet Project Outcomes
A2: PROJECT DETAILS:
A3: Project ID | G3: < DEPARTMENT TO FILL
A4: Proponent
A5: Project Name
A6: Program | B6: Select
A7: Funding Round | D7: Year Approved
A8: Has the Project undergone a Scope and/or Name Variation since approval? | B8: Select | D8: Latest Approval Date
A10: Construction Start Date | D10: Construction End Date | G10: < FUNDING RECIPIENT (YOU) TO FILL
A12: PROJECT OUTCOMES:
A13: Focus Areas | B13: FALSE | C13: Road Safety | E13: FALSE | F13: Road Resilience | G13: < Tick all that apply | H13: Although projects funded under the former BRP and HVSPP programs did not require you to address specific focus areas, works undertaken would usually address these focus areas regardless.
B14: FALSE | C14: Productivity | E14: FALSE | F14: Road Sustainability
A15: Stream | B15: FALSE | C15: Road Construction and Upgrades | E15: FALSE | F15: Heavy Vehicle Facilities | H15: Although projects funded under SLRIP before 1 September 2026 were not in specific streams, works undertaken would fit under a stream regardless.
B16: FALSE | C16: Bridge Renewal
B18: Fill each section that applies to your project
B19: Department to fill from Application or RPM | E19: FUNDING RECIPIENT (YOU) TO FILL
A20: Metric | B20: Pre-Construction | D20: Estimated Post-Construction | E20: Actual Post Construction | G20: Comments
A21: Annual Average Daily Traffic
A22: Days/year Asset Closed due to natural disaster
A23: Detour Distance if Asset closed or restricted
A24: Expected Maintenance Costs
A25: Expected time until major maintenance required
A27: Road Construction and Upgrades
A28: Type of Road | B28: Select | D28: Select | E28: Select | H28: < Select from Dropdown
A29: Road Load Limit
A30: Number of Lanes | B30: Select | D30: Select | E30: Select | H30: < Select from Dropdown
A31: Line Marking and Signage installed or replaced | B31: Select | D31: Select | E31: Select | H31: < Select from Dropdown
A32: Length of Sealed Road
A33: Width of Sealed Road
A34: Length of Unsealed Road
A35: Width of Unsealed Road
A37: Bridges and Culverts
A38: Type of Bridge | B38: Select | D38: Select | E38: Select | H38: < Select from Dropdown
A39: Bridge Useful Life
A40: Asset Load Limit
A41: Number of Lanes on Asset
A42: Line Marking and Signage installed or replaced | B42: Select | D42: Select | E42: Select | H42: < Select from Dropdown
A43: Length of Bridge
A44: Width of Bridge
A46: Heavy Vehicle Facilities
A47: Type of Rest Area | B47: Select | D47: Select | E47: Select | H47: < Select from Dropdown
...

Sheet Tables - DEPT ONLY
A1: Program | C1: Type of Rest Area | E1: Type of Bridge | G1: Type of Road | I1: Options
A2: Select | C2: Select | E2: Select | G2: Select | I2: Select
A3: Bridges Renewal Program | C3: None | E3: None | G3: Sealed | I3: Yes
A4: Heavy Vehicle Rest Area Initiative | C4: Informal | E4: Culverts | G4: Unsealed | I4: No
A5: Heavy Vehicle Safety and Productivity Program | C5: Formal | E5: Bridge - Timber | G5: Select | I5: N/A
A6: Safer Local Roads Infrastructure Program | C6: Green Reflectors + Signage | E6: Bridge - Concrete | G6: Single lane | I6: Partial
E7: Bridge - Other | G7: Double/Multi lane

Sheet Expenditure Report
F1: TABLE A:
A2: EXPENDITURE REPORT - PROJECT COSTS: | F2: Please refer to the correct funding guidelines from the table below for what are eligible project costs:
A3: Project Cost Category | B3: DEPARTMENT TO FILL | C3: FUNDING RECIPIENT (YOU) TO FILL | F3: Program | G3: Round(s) | H3: Projects Approved From | J3: Section in Guidelines | M3: Link
B4: Cost at Application ($) | C4: Cost ($) | D4: Comments | F4: BRP* | G4: 3 | H4: 2017-2019 | J4: 4 | M4: BRP Round 3 Guidelines 2017-2019
A5: Client management and oversight costs | G5: 4 | H5: 2019-2020 | J5: 4 | M5: BRP Round 4 Guidelines 2019-2020
A6: Design & investigation (Design and Construct Projects only) | G6: 5 | H6: 2020-2021 | J6: 4 | M6: BRP Round 5 Guidelines 2020-2021
A7: Project Management | F7: HVSPP* | G7: 6 | H7: 2017-2020 | J7: 4 | M7: HVSPP Round 6 Guidelines 2017-2020
A8: Applicant supplied insurances, fees, levies, permits | G8: 7 | H8: 2020-2021 | J8: 4 | M8: HVSPP Round 7 Guidelines 2020-2021
A9: Property purchase (Land Acquisition) | F9: BRP + HVSPP (inc. HVRA 1-3) | G9: Ongoing (inc. HVRA 1-3) | H9: 2021-2024 | J9: 5.1 | M9: Ongoing BRP + HVSPP Guidelines from 2021
A10: Service Relocation
A11: Construction costs
A12: Labour Costs (Internal) | F12: SLRIP (inc. HVRA 4-) | G12: 1-5 (inc. HVRA 4-7) | H12: 2024- | J12: 2.3.2 | M12: SLRIP Guidelines Rounds 1-5
A13: Labour Costs (External Contractors)
A14: Environmental Works | G14: TBC | H14: TBC | J14: TBC | M14: TBC
A15: Machinery Hire/Leased Equipment | F15: *BRP Rounds 3-5 and HVSPP Rounds 6-7 Guidelines do not explicitly state what are eligible project costs. In practice, refer to the Ongoing Guidelines Section 5.1 for what are eligible and ineligible project costs.
A16: Materials
A17: Traffic management and temporary works
A18: Bulk earthworks
A19: Retaining walls
A20: Drainage
A21: Bridge costs (including culverts)
A22: Pavements (including sealing)
A23: Finishing works (line-marking, guardrails, road barriers, etc.)
A24: Traffic signage, signals and controls
A25: Design (if during construction)
A26: Supplementary items (please describe in Comments)
E27: <Please include any other items here
A30: Contingency Amount (from Application only) | C30: N/A | D30: N/A
A31: TOTAL PROJECT COST | B31: =SUM(B12:B30,B6:B10) -> 0 | C31: =SUM(C6:C10,C12:C30) -> 0
A33: Has the Project undergone a Cost Variation since approval? | B33: Select | C33: Approval Date | E33: < DEPARTMENT TO FILL
A34: Original AG Funding Amount | B34: 0 | C34: Original Funding % | D34: =IF($B$33="Yes",$B$34/$B$31,$B$40) -> 0
A36: PROJECT FUNDING:
A37: Approved Total Project Cost | E37: =SUM($B$39:$E$39) -> 0 | F37: < This will calculate from the Approved Cost row below
B38: Australian Government | C38: State | D38: Council | E38: Other
A39: Approved Cost | E39: 0 | F39: < DEPARTMENT TO FILL
A40: Funding Percentage Split | B40: =IFERROR(ROUND(B$39/$E$37,5),0) -> 0 | C40: =IFERROR(ROUND(C$39/$E$37,5),0) -> 0 | D40: =IFERROR(ROUND(D$39/$E$37,5),0) -> 0 | E40: =IFERROR(ROUND(E$39/$E$37,5),0) -> 0 | F40: < This will calculate from the original Approved Cost
A41: Final Total Project Cost | E41: =$C$31 -> 0 | F41: < This will fill in from the Project Costs Table on the Expenditure Report sheet
A42: Difference | E42: =$E$41-$E$37 -> 0 | F42: < This will calculate the Approved Cost - Final Cost
A43: Project Budget Outcome | B43: {=_xlfn.IFS($E$37>$E$41,"Project Under Budget",$E$37=$E$41,"Project At Budget",$E$37<$E$41,"Project Over Budget")} -> Project At Budget | F43: < This will show either Over, Under or At Budget, depending on the Final Total Project Cost
A44: Difference (negative for savings) | B44: =IF($B$43="Project Under Budget",ROUND($B$40*($E$42),0),0) -> 0 | C44: 0 | D44: 0 | E44: 0 | F44: < YOU TO FILL - PUT $0 IF NO DIFFERENCE OR NEGATIVE FOR SAVINGS. ROUND TO NEAREST DOLLAR
...

Sheet Declarations
B2: Financial Declaration | O2: Email your completed and signed Post-Completion Report and Expenditure Report to the Projects team at: | S2: SLRIP-Projects@infrastructure.gov.au
B3: Funding Agreement/Offer Signed On | D3: < DEPARTMENT TO FILL | O3: Once accepted by the Department, the milestone will be paid. Your Project will then be closed, and no further payments can be made.
B4: =_xlfn.CONCAT( "I, the undersigned, declare that: ",CHAR(10), "- I am an authorised finance executive within my organisation", CHAR(10), "- I am authorised to make this declaration on behalf of my organisation", CHAR(10), "- For design and construction projects, only pre-construction design costs incurred on or after the project application was submitted are included in the project costs", CHAR(10), "- All other project costs are incurred on or after formal approval of the funding offer (signed by the Proponent on ", IF(C3="","[Date]",TEXT(C3,"DD/MM/YYYY")), ")", CHAR(10), "- All Commonwealth funding has been spent on eligible project costs in accordance with the program guidelines, funding offer and other guidance material", CHAR(10), "- All financial conditions of the funding offer have been complied with.") -> I, the undersigned, declare that: - I am an authorised finance executive within my organisation - I am authorised to make this declaration on behalf of my organisation - For design and construction projects, only pre-construction design costs incurred on or after the project application was submitted are included in the project costs - All other project costs are incurred on or after formal approval of the funding offer (signed by the Proponent on [Date]) - All Commonwealth funding has been spent on eligible project costs in accordance with the program guidelines, funding offer and other guidance material - All financial conditions of the funding offer have been complied with.
B5: Signature: | C5: Date:
F6: < FUNDING RECIPIENT TO FILL
B7: Name | C7: Position
F8: < FUNDING RECIPIENT TO FILL
B9: Contact Phone Number | C9: Contact Email Address
F10: < FUNDING RECIPIENT TO FILL
B12: Project Declaration
B13: =_xlfn.CONCAT( "I, the undersigned, declare that: ",CHAR(10), "- I am authorised to make this declaration on behalf of my organisation", CHAR(10), "- All information provided in this report is true and accurate", CHAR(10), "- All eligible project activities required for the completion of the project have been achieved", CHAR(10), "- All conditions of the funding agreement/offer have been complied with") -> I, the undersigned, declare that: - I am authorised to make this declaration on behalf of my organisation - All information provided in this report is true and accurate - All eligible project activities required for the completion of the project have been achieved - All conditions of the funding agreement/offer have been complied with
B14: Signature: | C14: Date:
F15: < FUNDING RECIPIENT TO FILL
B16: Name | C16: Position
F17: < FUNDING RECIPIENT TO FILL
B18: Contact Phone Number | C18: Contact Email Address
F19: < FUNDING RECIPIENT TO FILL

Sheet DEPARTMENT USE ONLY
A2: Project ID | B2: Proponent | C2: Project Name | D2: Program | E2: Funding Round | F2: Year Approved | G2: Has the Project undergone a Scope and/or Name Variation since approval? | H2: Latest Approval Date | I2: Construction Start Date | J2: Construction End Date | K2: Focus - Road Safety | L2: Focus - Road Resilience | M2: Focus - Productivity | N2: Focus - Road Sustainability | O2: Stream - Road Construction and Upgrades | P2: Stream - Heavy Vehicle Facilities | Q2: Stream - Bridge Renewal | R2: AADT - Pre-Construction | S2: AADT - Post-Construction Estimate | T2: AADT - Actual Post-Construction | U2: AADT - Comments | V2: Days Closed - Pre-Construction | W2: Days Closed - Post-Construction Estimate | X2: Dats Closed - Actual Post-Construction | Y2: Days Closed - Comments | Z2: Detour - Pre-Construction | AA2: Detour - Post-Construction Estimate | AB2: Detour - Actual Post-Construction | AC2: Detour - Comments | AD2: Maintenance Costs - Pre-Construction | AE2: Maintenance Costs - Post-Construction Estimate | AF2: Maintenance Costs - Actual Post-Construction | AG2: Maintenance Costs - Comments | AH2: Maintenance Time - Pre-Construction | AI2: Maintenance Time - Post-Construction Estimate | AJ2: Maintenance Time - Actual Post-Construction | AK2: Maintenance - Comments | AL2: Type of Road - Pre-Construction | AM2: Type of Road - Post-Construction Estimate | AN2: Type of Road - Actual Post-Construction | AO2: Type of Road - Comments | AP2: Road Load Limit - Pre-Construction | AQ2: Road Load Limit - Post-Construction Estimate | AR2: Road Load Limit - Actual Post-Construction | AS2: Road Load Limit - Comments | AT2: Number of Lanes - Pre-Construction | AU2: Number of Lanes - Post-Construction Estimate | AV2: Number of Lanes - Actual Post-Construction | AW2: Number of Lanes - Comments | AX2: Road Line Marking/Signage - Pre-Construction | AY2: Road Line Marking/Signage - Post-Construction Estimate | AZ2: Road Line Marking/Signage - Actual Post-Construction | BA2: Road Line Marking/Signage - Comments | BB2: Length of Sealed Road - Pre-Construction | BC2: Length of Sealed Road - Post-Construction Estimate | BD2: Length of Sealed Road - Actual Post-Construction | BE2: Length of Sealed Road - Comments | BF2: Width of Sealed Road - Pre-Construction | BG2: Width of Sealed Road - Post-Construction Estimate | BH2: Width of Sealed Road - Actual Post-Construction | BI2: Width of Sealed Road - Comments | BJ2: Length of Unsealed Road - Pre-Construction | BK2: Length of Unsealed Road - Post-Construction Estimate | BL2: Length of Unsealed Road - Actual Post-Construction | BM2: Length of Unsealed Road - Comments | BN2: Width of Unealed Road - Pre-Construction | BO2: Width of Unsealed Road - Post-Construction Estimate | BP2: Width of Unsealed Road - Actual Post-Construction | BQ2: Width of Unsealed Road - Comments | BR2: Type of Bridge - Pre-Construction | BS2: Type of Bridge - Post-Construction Estimate | BT2: Type of Bridge - Actual Post-Construction | BU2: Type of Bridge - Comments | BV2: Bridge Useful Life - Pre-Construction | BW2: Bridge Useful Life - Post Construction Estimate | BX2: Bridge Useful Life - Actual Post-Construction | BY2: Bridge Useful Life - Comments | BZ2: Bridge Load Limit - Pre-Construction | CA2: Bridge Load Limit - Post-Construction Estimate | CB2: Bridge Load Limit - Actual Post-Construction | CC2: Bridge Load Limit - Comments | CD2: Bridge Lanes - Pre-Construction | CE2: Bridge Lanes - Post-Construction Estimate | CF2: Bridge Lanes - Actual Post-Construction | CG2: Bridge Lanes - Comments | CH2: Bridge Line Marking/Signage - Pre-Construction | CI2: Bridge Line Marking/Signage - Post Construction Estimate | CJ2: Bridge Line Marking/Signage - Actual Post-Construction | CK2: Bridge Line Marking/Signage - Comments | CL2: Bridge Length - Pre-Construction | CM2: Bridge Length - Post-Construction Estimate | CN2: Bridge Length - Actual Post-Construction | CO2: Bridge Length - Comments | CP2: Bridge Width - Pre-Construction | CQ2: Bridge Width - Post-Construction Estimate | CR2: Bridge Width - Actual Post-Construction | CS2: Bridge Width - Comments | CT2: Rest Area Type - Pre-Construction | CU2: Rest Area Type - Post-Construction Estimate | CV2: Rest Area Type - Actual Post Construction | CW2: Rest Area Type - Comments | CX2: Rest Area Useful Life - Pre-Construction | CY2: Rest Area Useful Life - Post-Construction Estimate | CZ2: Rest Area Useful Life - Actual Post-Construction | DA2: Rest Area Useful Life - Comments | DB2: Number of Rest Areas Pre-Construction | DC2: Number of Rest Areas - Post-Construction Estimate | DD2: Number of Rest Ares - Actual Post-Construction | DE2: Number of Rest Areas - Comments | DF2: Number of Bays - Pre-Construction | DG2: Number of Bays - Post-Construction Estimate | DH2: Number of Bays - Actual Post-Construction | DI2: Number of Bays - Comments | DJ2: Largest Vehicle - Pre-Construction | DK2: Largest Vehicle - Post-Construction Estimate | DL2: Largest Vehicle - Actual Post-Construction | DM2: Largest Vehicle - Comments | DN2: Benefits Nominated | DO2: Benefits Achieved | DP2: Benefit Details | DQ2: Jobs Supported | DR2: Materials Used | DS2: New Technologies | DT2: Future Projects | DU2: Indigenous Workforce Used | DV2: Indigenous Workforce - Number involved | DW2: Indigenous Workforce - Comments | DX2: Application Cost - Design and Investigation | DY2: Application Cost - Project Management | DZ2: Application Cost - Insurance/Fees | EA2: Application Cost - Property Purchase | EB2: Application Cost - Service Relocation | EC2: Application Cost - Internal Labour | ED2: Application Costs - External Labour | EE2: Application Costs - Environmental Works | EF2: Application Costs - Machinery Hire | EG2: Application Costs - Materials | EH2: Application Costs - Traffic Management | EI2: Application Costs - Earthworks | EJ2: Application Costs - Retaining Walls | EK2: Application Costs - Drainage | EL2: Application Costs - Bridges | EM2: Application Costs - Pavements | EN2: Application Costs - Finishing Works | EO2: Application Costs - Traffic Signage | EP2: Application Costs - Construction Design | EQ2: Application Costs - Other Items | ER2: Contingency | ES2: Design | ET2: Project Management | EU2: Insurances/Fees | EV2: Property Purchase | EW2: Service Relocation | EX2: Internal Labour | EY2: External Labour | EZ2: Environmental Works | FA2: Machinery Hire | FB2: Materials | FC2: Traffic Management | FD2: Earthworks | FE2: Retaining Walls | FF2: Drainage | FG2: Bridges | FH2: Pavements | FI2: Finishing Works | FJ2: Traffic Signage | FK2: Design | FL2: ='Expenditure Report'!$A$27 -> 0 | FM2: ='Expenditure Report'!$A$28 -> 0 | FN2: ='Expenditure Report'!$A$29 -> 0 | FO2: Application Total Cost | FP2: Final Total Cost | FQ2: Approved Total Cost | FR2: Cost Variation | FS2: Approval Date | FT2: Original AG Funding | FU2: Original Funding % | FV2: Approved AG | FW2: Approved State | FX2: Approved Council | FY2: Approved Other | FZ2: AG % | GA2: State % | GB2: Council % | GC2: Other % | GD2: Cost Difference | GE2: Budget Outcome | GF2: AG Difference | GG2: State Difference | GH2: Council Difference | GI2: Other Difference | GJ2: AG Final % | GK2: State Final % | GL2: Council Final % | GM2: Other Final % | GN2: AG Final Amount | GO2: State Final Amount | GP2: Council Final Amount | GQ2: Other Final Amount
A3: ='Project Outcomes'!$B$3 -> 0 | B3: ='Project Outcomes'!$B$4 -> 0 | C3: ='Project Outcomes'!$B$5 -> 0 | D3: ='Project Outcomes'!$B$6 -> Select | E3: ='Project Outcomes'!$B$7 -> 0 | F3: ='Project Outcomes'!$E$7 -> 0 | G3: ='Project Outcomes'!$B$8 -> Select | H3: ='Project Outcomes'!$E$8 -> 0 | I3: ='Project Outcomes'!$B$10 -> 0 | J3: ='Project Outcomes'!$E$10 -> 0 | K3: ='Project Outcomes'!$B$13 -> FALSE | L3: ='Project Outcomes'!$E$13 -> FALSE | M3: ='Project Outcomes'!$B$14 -> FALSE | N3: ='Project Outcomes'!$E$14 -> FALSE | O3: ='Project Outcomes'!$B$15 -> FALSE | P3: ='Project Outcomes'!$E$15 -> FALSE | Q3: ='Project Outcomes'!$B$16 -> FALSE | R3: ='Project Outcomes'!$B$21 -> 0 | S3: ='Project Outcomes'!$D$21 -> 0 | T3: ='Project Outcomes'!$E$21 -> 0 | U3: ='Project Outcomes'!$G$21 -> 0 | V3: ='Project Outcomes'!$B22 -> 0 | W3: ='Project Outcomes'!$D22 -> 0 | X3: ='Project Outcomes'!$E22 -> 0 | Y3: ='Project Outcomes'!$G22 -> 0 | Z3: ='Project Outcomes'!$B23 -> 0 | AA3: ='Project Outcomes'!$D23 -> 0 | AB3: ='Project Outcomes'!$E23 -> 0 | AC3: ='Project Outcomes'!$G23 -> 0 | AD3: ='Project Outcomes'!$B$24 -> 0 | AE3: ='Project Outcomes'!$D$24 -> 0 | AF3: ='Project Outcomes'!$E$24 -> 0 | AG3: ='Project Outcomes'!$G$24 -> 0 | AH3: ='Project Outcomes'!$B25 -> 0 | AI3: ='Project Outcomes'!$D25 -> 0 | AJ3: ='Project Outcomes'!$E25 -> 0 | AK3: ='Project Outcomes'!$G25 -> 0 | AL3: ='Project Outcomes'!$B$28 -> Select | AM3: ='Project Outcomes'!$D$28 -> Select | AN3: ='Project Outcomes'!$E$28 -> Select | AO3: ='Project Outcomes'!$G$28 -> 0 | AP3: ='Project Outcomes'!$B$29 -> 0 | AQ3: ='Project Outcomes'!$D$29 -> 0 | AR3: ='Project Outcomes'!$E$29 -> 0 | AS3: ='Project Outcomes'!$G$29 -> 0 | AT3: ='Project Outcomes'!$B$30 -> Select | AU3: ='Project Outcomes'!$D$30 -> Select | AV3: ='Project Outcomes'!$E$30 -> Select | AW3: ='Project Outcomes'!$G$30 -> 0 | AX3: ='Project Outcomes'!$B$31 -> Select | AY3: ='Project Outcomes'!$D$31 -> Select | AZ3: ='Project Outcomes'!$E$31 -> Select | BA3: ='Project Outcomes'!$G$31 -> 0 | BB3: ='Project Outcomes'!$B$32 -> 0 | BC3: ='Project Outcomes'!$D$32 -> 0 | BD3: ='Project Outcomes'!$E$32 -> 0 | BE3: ='Project Outcomes'!$G$32 -> 0 | BF3: ='Project Outcomes'!$B$33 -> 0 | BG3: ='Project Outcomes'!$D$33 -> 0 | BH3: ='Project Outcomes'!$E$33 -> 0 | BI3: ='Project Outcomes'!$G$33 -> 0 | BJ3: ='Project Outcomes'!$B$34 -> 0 | BK3: ='Project Outcomes'!$D$34 -> 0 | BL3: ='Project Outcomes'!$E$34 -> 0 | BM3: ='Project Outcomes'!$G$34 -> 0 | BN3: ='Project Outcomes'!$B$35 -> 0 | BO3: ='Project Outcomes'!$D$35 -> 0 | BP3: ='Project Outcomes'!$E$35 -> 0 | BQ3: ='Project Outcomes'!$G$35 -> 0 | BR3: ='Project Outcomes'!$B$38 -> Select | BS3: ='Project Outcomes'!$D$38 -> Select | BT3: ='Project Outcomes'!$E$38 -> Select | BU3: ='Project Outcomes'!$G$38 -> 0 | BV3: ='Project Outcomes'!$B$39 -> 0 | BW3: ='Project Outcomes'!$D$39 -> 0 | BX3: ='Project Outcomes'!$E$39 -> 0 | BY3: ='Project Outcomes'!$G$39 -> 0 | BZ3: ='Project Outcomes'!$B$40 -> 0 | CA3: ='Project Outcomes'!$D$40 -> 0 | CB3: ='Project Outcomes'!$E$40 -> 0 | CC3: ='Project Outcomes'!$G$40 -> 0 | CD3: ='Project Outcomes'!$B$41 -> 0 | CE3: ='Project Outcomes'!$D$41 -> 0 | CF3: ='Project Outcomes'!$E$41 -> 0 | CG3: ='Project Outcomes'!$G$41 -> 0 | CH3: ='Project Outcomes'!$B$42 -> Select | CI3: ='Project Outcomes'!$D$42 -> Select | CJ3: ='Project Outcomes'!$E$42 -> Select | CK3: ='Project Outcomes'!$G$42 -> 0 | CL3: ='Project Outcomes'!$B$43 -> 0 | CM3: ='Project Outcomes'!$D$43 -> 0 | CN3: ='Project Outcomes'!$E$43 -> 0 | CO3: ='Project Outcomes'!$G$43 -> 0 | CP3: ='Project Outcomes'!$B$44 -> 0 | CQ3: ='Project Outcomes'!$D$44 -> 0 | CR3: ='Project Outcomes'!$E$44 -> 0 | CS3: ='Project Outcomes'!$G$44 -> 0 | CT3: ='Project Outcomes'!$B$47 -> Select | CU3: ='Project Outcomes'!$D$47 -> Select | CV3: ='Project Outcomes'!$E$47 -> Select | CW3: ='Project Outcomes'!$G$47 -> 0 | CX3: ='Project Outcomes'!$B$48 -> 0 | CY3: ='Project Outcomes'!$D$48 -> 0 | CZ3: ='Project Outcomes'!$E$48 -> 0 | DA3: ='Project Outcomes'!$G$48 -> 0 | DB3: ='Project Outcomes'!$B$49 -> 0 | DC3: ='Project Outcomes'!$D$49 -> 0 | DD3: ='Project Outcomes'!$E$49 -> 0 | DE3: ='Project Outcomes'!$G$49 -> 0 | DF3: ='Project Outcomes'!$B$50 -> 0 | DG3: ='Project Outcomes'!$D$50 -> 0 | DH3: ='Project Outcomes'!$E$50 -> 0 | DI3: ='Project Outcomes'!$G$50 -> 0 | DJ3: ='Project Outcomes'!$B$51 -> 0 | DK3: ='Project Outcomes'!$D$51 -> 0 | DL3: ='Project Outcomes'!$E$51 -> 0 | DM3: ='Project Outcomes'!$G$51 -> 0 | DN3: ='Project Outcomes'!$D$54 -> 0 | DO3: ='Project Outcomes'!$D$55 -> Select | DP3: ='Project Outcomes'!$D$56 -> <Please type here> | DQ3: ='Project Outcomes'!$D$59 -> 0 | DR3: ='Project Outcomes'!$D$60 -> <Please type here> | DS3: ='Project Outcomes'!$D$64 -> <Please type here> | DT3: ='Project Outcomes'!$D$68 -> Select | DU3: ='Project Outcomes'!$D$71 -> Select | DV3: ='Project Outcomes'!$D$73 -> 0 | DW3: ='Project Outcomes'!$D$75 -> <Please type here> | DX3: ='Expenditure Report'!$B6 -> 0 | DY3: ='Expenditure Report'!$B7 -> 0 | DZ3: ='Expenditure Report'!$B8 -> 0 | EA3: ='Expenditure Report'!$B9 -> 0 | EB3: ='Expenditure Report'!$B10 -> 0 | EC3: ='Expenditure Report'!$B12 -> 0 | ED3: ='Expenditure Report'!$B13 -> 0 | EE3: ='Expenditure Report'!$B14 -> 0 | EF3: ='Expenditure Report'!$B15 -> 0 | EG3: ='Expenditure Report'!$B16 -> 0 | EH3: ='Expenditure Report'!$B17 -> 0 | EI3: ='Expenditure Report'!$B18 -> 0 | EJ3: ='Expenditure Report'!$B19 -> 0 | EK3: ='Expenditure Report'!$B20 -> 0 | EL3: ='Expenditure Report'!$B21 -> 0 | EM3: ='Expenditure Report'!$B22 -> 0 | EN3: ='Expenditure Report'!$B23 -> 0 | EO3: ='Expenditure Report'!$B24 -> 0 | EP3: ='Expenditure Report'!$B25 -> 0 | EQ3: ='Expenditure Report'!$B26 -> 0 | ER3: ='Expenditure Report'!$B27 -> 0 | ES3: ='Expenditure Report'!$C6 -> 0 | ET3: ='Expenditure Report'!$C7 -> 0 | EU3: ='Expenditure Report'!$C8 -> 0 | EV3: ='Expenditure Report'!$C9 -> 0 | EW3: ='Expenditure Report'!$C10 -> 0 | EX3: ='Expenditure Report'!$C12 -> 0 | EY3: ='Expenditure Report'!$C13 -> 0 | EZ3: ='Expenditure Report'!$C14 -> 0 | FA3: ='Expenditure Report'!$C15 -> 0 | FB3: ='Expenditure Report'!$C16 -> 0 | FC3: ='Expenditure Report'!$C17 -> 0 | FD3: ='Expenditure Report'!$C18 -> 0 | FE3: ='Expenditure Report'!$C19 -> 0 | FF3: ='Expenditure Report'!$C20 -> 0 | FG3: ='Expenditure Report'!$C21 -> 0 | FH3: ='Expenditure Report'!$C22 -> 0 | FI3: ='Expenditure Report'!$C23 -> 0 | FJ3: ='Expenditure Report'!$C24 -> 0 | FK3: ='Expenditure Report'!$C25 -> 0 | FL3: ='Expenditure Report'!$C26 -> 0 | FM3: ='Expenditure Report'!$C27 -> 0 | FN3: ='Expenditure Report'!$C28 -> 0 | FO3: ='Expenditure Report'!$C29 -> 0 | FP3: ='Expenditure Report'!$C$31 -> 0 | FQ3: ='Expenditure Report'!$E$37 -> 0 | FR3: ='Expenditure Report'!$B$33 -> Select | FS3: ='Expenditure Report'!$D$33 -> 0 | FT3: ='Expenditure Report'!$B$34 -> 0 | FU3: ='Expenditure Report'!$D$34 -> 0 | FV3: ='Expenditure Report'!$B$39 -> 0 | FW3: ='Expenditure Report'!$C$39 -> 0 | FX3: ='Expenditure Report'!$D$39 -> 0 | FY3: ='Expenditure Report'!$E$39 -> 0 | FZ3: ='Expenditure Report'!$B$40 -> 0 | GA3: ='Expenditure Report'!$C$40 -> 0 | GB3: ='Expenditure Report'!$D$40 -> 0 | GC3: ='Expenditure Report'!$E$40 -> 0 | GD3: ='Expenditure Report'!$E$42 -> 0 | GE3: ='Expenditure Report'!$B$43 -> Project At Budget | GF3: ='Expenditure Report'!$B$44 -> 0 | GG3: ='Expenditure Report'!$C$44 -> 0 | GH3: ='Expenditure Report'!$D$44 -> 0 | GI3: ='Expenditure Report'!$E$44 -> 0 | GJ3: ='Expenditure Report'!$B$45 -> 0 | GK3: ='Expenditure Report'!$C$45 -> 0 | GL3: ='Expenditure Report'!$D$45 -> 0 | GM3: ='Expenditure Report'!$E$45 -> 0 | GN3: ='Expenditure Report'!$B$46 -> 0 | GO3: ='Expenditure Report'!$C$46 -> 0 | GP3: ='Expenditure Report'!$D$46 -> 0 | GQ3: ='Expenditure Report'!$E$46 -> 0
